BEGIN:VCALENDAR
VERSION:2.0
PRODID:-//Neurokliniken Waldeck - ECPv6.15.20//NONSGML v1.0//EN
CALSCALE:GREGORIAN
METHOD:PUBLISH
X-WR-CALNAME:Neurokliniken Waldeck
X-ORIGINAL-URL:https://neurokliniken-waldeck.de
X-WR-CALDESC:Veranstaltungen für Neurokliniken Waldeck
REFRESH-INTERVAL;VALUE=DURATION:PT1H
X-Robots-Tag:noindex
X-PUBLISHED-TTL:PT1H
BEGIN:VTIMEZONE
TZID:Europe/Berlin
BEGIN:DAYLIGHT
TZOFFSETFROM:+0100
TZOFFSETTO:+0200
TZNAME:CEST
DTSTART:20250330T010000
END:DAYLIGHT
BEGIN:STANDARD
TZOFFSETFROM:+0200
TZOFFSETTO:+0100
TZNAME:CET
DTSTART:20251026T010000
END:STANDARD
BEGIN:DAYLIGHT
TZOFFSETFROM:+0100
TZOFFSETTO:+0200
TZNAME:CEST
DTSTART:20260329T010000
END:DAYLIGHT
BEGIN:STANDARD
TZOFFSETFROM:+0200
TZOFFSETTO:+0100
TZNAME:CET
DTSTART:20261025T010000
END:STANDARD
BEGIN:DAYLIGHT
TZOFFSETFROM:+0100
TZOFFSETTO:+0200
TZNAME:CEST
DTSTART:20270328T010000
END:DAYLIGHT
BEGIN:STANDARD
TZOFFSETFROM:+0200
TZOFFSETTO:+0100
TZNAME:CET
DTSTART:20271031T010000
END:STANDARD
END:VTIMEZONE
BEGIN:VEVENT
DTSTART;TZID=Europe/Berlin:20261104T083000
DTEND;TZID=Europe/Berlin:20261104T160000
DTSTAMP:20260421T170442
CREATED:20260208T163609Z
LAST-MODIFIED:20260209T125011Z
UID:6804-1793781000-1793808000@neurokliniken-waldeck.de
SUMMARY:Workshop Trachealkanülenmanagement
DESCRIPTION:Platz sichern!					\n				\n									\n						120 Euro					\n				\n									\n					\n						Hier anmelden					\n					\n							\n							\n				\n					Anmeldung				\n			\n				\n						\n				\n				\n				\n									Detaillierte Krankenbeobachtung und eine engmaschige Beurteilung der Situation sind unerlässlich. Eine mögliche Fehlerquelle als Beispiel: Durch unzureichende Entblockung des Cuffs beim Wechsel auf den Phonationseinsatz mit Sprechventil kann der/die Patient:in in schwerste Atemnot geraten. Den Pflegefachkräften obliegt beim Trachealkanülenmanagement also eine hohe Verantwortung. 								\n				\n					\n		\n					\n		\n				\n						\n					\n			\n						\n				\n					Programm				\n				\n				\n				\n						\n			\n							\n				\n					\n						\n							08.30-08.45\n						\n\n						\n							\n								Begrüßung\n							\n						\n					\n				\n								\n				\n					\n						\n							08:45-10.15\n						\n\n						\n							\n								Vortrag: Trachealkanülenmanagement\n							\n						\n					\n				\n								\n				\n					\n						\n							10.15-10.30\n						\n\n						\n							\n								Kaffeepause\n							\n						\n					\n				\n								\n				\n					\n						\n							10.30-11.00\n						\n\n						\n							\n								Vortrag: Dysphagie\n							\n						\n					\n				\n								\n				\n					\n						\n							11.00-12.30\n						\n\n						\n							\n								Vorstellung: Trachealkanülenmodelle (Firma Primed)\n							\n						\n					\n				\n								\n				\n					\n						\n							12.30-13.00\n						\n\n						\n							\n								Mittagspause\n							\n						\n					\n				\n								\n				\n					\n						\n							13.00-15.30\n						\n\n						\n							\n								Workshops in drei Gruppen zu den Themen: Tracheostomapflege und Absaugen\, Trachealkanülenwechsel\, einteilige und zweiteilige Kanülen\n							\n						\n					\n				\n								\n				\n					\n						\n							15.30-16.00\n						\n\n						\n							\n								Rundgang Weaningstation\, Feedback\, Verabschiedung und Ausgabe Zertifikate\n							\n						\n					\n				\n						\n		\n					\n				\n					\n		\n				\n			\n						\n				\n					Programm\nIhre grundsätzlichen Pflegeziele bei tracheotomierten Patient:innen sind				\n				\n				\n				\n							\n							\n											\n													\n										Intakte Wundverhältnisse am Tracheostoma\n									\n								\n											\n													\n										Atraumatisches Sekretmanagement und physiologische Atemgasklimatisierung\n									\n								\n											\n													\n										Vermeidung von akzidenzieller Aspiration von Speichel oder Nahrungsbestandteilen\n									\n								\n											\n													\n										Unterstützung der langfristigen Rehabilitation durch sichere Handhabung und regelmäßige Nutzung zweiteiliger Phonationskanülen sofern möglich\n									\n								\n											\n													\n										Bestmögliche Integration in das tägliche Leben\n									\n						\n						\n				\n					\n		\n					\n		\n				\n						\n					\n			\n						\n				\n									In den Neurokliniken Waldeck behandeln und rehabilitieren wir im Frührehabereich hauptsächlich tracheotomierte Patient:innen. Unsere Ärzte und Pflegekräfte verfügen durch den täglichen Umgang mit diesen Patient:innen über umfangreichste Expertise im Trachealkanülenmanagement mit all seinen technischen Möglichkeiten und Fallstricken. Deshalb bieten wir Ihnen in unserem Workshop „Trachealkanülenmanagement“ alle wesentlichen Aspekte der Behandlungspflege und der Krankenbeobachtung bei einem tracheotomierten Menschen ohne maschinelle Beatmung. Nach einem informativen theoretischen Teil schließt sich ein praktischer Teil an\, in dem mit praktischen Unterweisungen und Vorführungen der Umgang mit Trachealkanülen am Modell demonstriert und anschließend geübt wird. Dabei werden die Teilnehmenden den Kanülenwechsel\, die Tracheostomapflege\, den Umgang mit zweiteiligen Phonationskanülen und das Beherrschen von Komplikationen und Notfällen bei tracheotomierten Menschen unter Supervision selbst durchführen. Über Ihr Interesse und den Austausch mit Ihnen freuen wir uns sehr.Christina Lemke\, Pflegedirektorin der Neurokliniken Waldeck FortbildungspunkteFür Ihre Teilnahme erhalten Sie ein Zertifikat und Fortbildungspunkte nach den Richtlinien der Registrierungsstelle beruflich Pflegender (6 Fortbildungspunkte). Für Ärzte können wir 8 Punkte der Ärztekammer M-V vergeben. Anmeldeschluss01. Oktober 2026 								\n				\n					\n		\n					\n		\n				\n						\n					\n			\n						\n				\n					Neurokliniken Waldeck				\n				\n				\n				\n									Über die Neurokliniken Waldeck: Die Neurokliniken Waldeck sind seit über 110 Jahren als medizinischer Versorger in der Region Rostock sowie in Mecklenburg-Vorpommern etabliert. Sie sind auf die intensivmedizinische Versorgung von Beatmungspatienten sowie die neurologische (Früh-) Rehabilitation ausgerichtet und gehören seit 2021 zum Verbund der Recura Kliniken. Das Haus ist mit 160 Betten ausgestattet. In den Neurokliniken Waldeck sind ca. 200 Mitarbeiter:innen beschäftigt. 								\n				\n				\n				\n							\n\n						Hinweis zur Anmeldung\n			\n						Bitte beachten Sie\, dass die Anzahl der Teilnehmenden begrenzt ist. Nach Ihrer Anmeldung erhalten Sie eine Anmeldebestätigung per E-Mail\, mit dieser Bestätigung ist Ihre Anmeldung zum Seminar verbindlich. Stellen Sie daher bitte sicher\, dass Sie Ihre E-Mail-Adresse richtig angegeben haben.\n\nBei einer Stornierung Ihrer Anmeldung bis zu zwei Wochen vor Kursbeginn stellen wir 80 Prozent der Kursgebühr in Rechnung.\n			\n			\n		\n						\n				\n					\n		\n					\n		\n				\n						\n					\n			\n						\n				\n					Rückblick – TK-Workshop				\n				\n				\n				\n					Schwester Elke zeigt beim Workshop der Neurokliniken Waldeck den Trachealkanülen-Wechsel an einer Lehrpuppe.Notfallmanagement ist ein wichtiges Thema\, da es beim Umgang mit Trachealkanülen immer auch um die Luftzufuhr der Patientinnen und Patienten geht. Tipps zum Notfallmanagement gibt Dr. Claudia Beltschany bei den Praxisübungen.
URL:https://neurokliniken-waldeck.de/veranstaltung/workshop-trachealkanuelenmanagement/
LOCATION:Neurokliniken Waldeck (Mehrzweckraum)\, Dr.-Friedrich-Dittmann-Weg 1 (Mehrzweckraum)\, Schwaan\, Mecklenburg-Vorpommern\, 18258\, Germany
ATTACH;FMTTYPE=image/jpeg:https://neurokliniken-waldeck.de/wp-content/uploads/2022/07/2022-11_News_Weaning-e1737298014795.jpg
END:VEVENT
END:VCALENDAR